BEGIN:VCALENDAR
PRODID:-//Microsoft Corporation//Outlook 14.0 MIMEDIR//EN
VERSION:2.0
METHOD:PUBLISH
BEGIN:VEVENT
UID:9dfb570f74f7c97975c5573305f7c002www.mmsg.ca
DTSTAMP:20260423T110434Z
DTSTART:2026-05-18T00:01:0000Z
DTEND:2026-05-18T23:59:0000Z
SUMMARY:Fermeture du bureau municipal et de la bibliothèque le 18 mai 2026
LOCATION:1 Boulevard du Frère André, Mont-Saint-Grégoire, QC, Canada
DESCRIPTION:Journée nationale des patriotes. Bon congé !
END:VEVENT
END:VCALENDAR