BEGIN:VCALENDAR
PRODID:-//Microsoft Corporation//Outlook 14.0 MIMEDIR//EN
VERSION:2.0
METHOD:PUBLISH
BEGIN:VEVENT
UID:e63bbbdb94b2be17865b2d29746e6850www.mmsg.ca
DTSTAMP:20260422T184020Z
DTSTART:2026-05-09T08:30:0000Z
DTEND:2026-05-09T11:30:0000Z
SUMMARY:Don d’arbres, distribution de compost, plantation d’arbres et entraînements en plein air
LOCATION:La Montérégiade - Stationnement, Rang Double, Mont-Saint-Grégoire, QC, Canada
DESCRIPTION:Activité gratuite. 
END:VEVENT
END:VCALENDAR