BEGIN:VCALENDAR
PRODID:-//Microsoft Corporation//Outlook 14.0 MIMEDIR//EN
VERSION:2.0
METHOD:PUBLISH
BEGIN:VEVENT
UID:8b185b58e812a67dc02999f99e2cecaawww.mmsg.ca
DTSTAMP:20260422T184013Z
DTSTART:2026-04-27T00:01:0000Z
DTEND:2026-06-30T10:30:0000Z
SUMMARY:Session pickleball junior
LOCATION:45 Rang de la Montagne, Mont-Saint-Grégoire, QC, Canada
DESCRIPTION:Début des inscriptions le 20 avril 2026 auprès de Mrgence Pickleball. 
END:VEVENT
END:VCALENDAR