BEGIN:VCALENDAR
PRODID:-//Microsoft Corporation//Outlook 14.0 MIMEDIR//EN
VERSION:2.0
METHOD:PUBLISH
BEGIN:VEVENT
UID:a77158d281364f314234c3154bc889ffwww.mmsg.ca
DTSTAMP:20260422T184012Z
DTSTART:2026-05-23T13:00:0000Z
DTEND:2026-05-23T16:00:0000Z
SUMMARY:Journée découverte pickleball junior
LOCATION:45 Rang de la Montagne, Mont-Saint-Grégoire, QC, Canada
DESCRIPTION:Activité gratuite. Aucune inscription requise.
END:VEVENT
END:VCALENDAR