BEGIN:VCALENDAR
PRODID:-//Microsoft Corporation//Outlook 14.0 MIMEDIR//EN
VERSION:2.0
METHOD:PUBLISH
BEGIN:VEVENT
UID:2b0014179dd136e6af29615704c80040www.mmsg.ca
DTSTAMP:20260422T184013Z
DTSTART:2026-05-20T18:30:0000Z
DTEND:2026-05-20T20:00:0000Z
SUMMARY:Heure du conte à la bibliothèque | Mai 2026
LOCATION:45 Rang de la Montagne, Mont-Saint-Grégoire, QC, Canada
DESCRIPTION:Conte, bricolage et collations. Activité gratuite.
END:VEVENT
END:VCALENDAR