BEGIN:VCALENDAR
PRODID:-//Microsoft Corporation//Outlook 14.0 MIMEDIR//EN
VERSION:2.0
METHOD:PUBLISH
BEGIN:VEVENT
UID:ae66afcbc07a46b22ea44d2cded29876www.mmsg.ca
DTSTAMP:20260420T215048Z
DTSTART:2026-05-04T13:41:0000Z
DTEND:2026-08-31T13:41:0000Z
SUMMARY:Recensement 2026
LOCATION:
DESCRIPTION:À compter de mai, les ménages canadiens recevront par la poste une lettre d’invitation au recensement contenant un code d’accès sécurisé et des instructions sur la façon de remplir leur questionnaire. Les données du recensement sont essentielles à la planification d’un large éventail de programmes et de services, y compris ceux liés à l’éducation, aux soins de santé, au transport et au marché du travail. 

END:VEVENT
END:VCALENDAR