BEGIN:VCALENDAR
PRODID:-//Microsoft Corporation//Outlook 14.0 MIMEDIR//EN
VERSION:2.0
METHOD:PUBLISH
BEGIN:VEVENT
UID:4487626946f81a3122099d62e9a15a05www.mmsg.ca
DTSTAMP:20260421T122214Z
DTSTART:2026-05-16T19:00:0000Z
DTEND:2026-05-16T22:00:0000Z
SUMMARY:Soirée de danse country | Mai
LOCATION:45 Rang de la Montagne, Mont-Saint-Grégoire, QC, Canada
DESCRIPTION:Bienvenue à tous.
END:VEVENT
END:VCALENDAR