BEGIN:VCALENDAR
PRODID:-//Microsoft Corporation//Outlook 14.0 MIMEDIR//EN
VERSION:2.0
METHOD:PUBLISH
BEGIN:VEVENT
UID:f36e5db81fdfda83d1e445c0b87458bawww.mmsg.ca
DTSTAMP:20260420T220356Z
DTSTART:2026-05-09T08:30:0000Z
DTEND:2026-05-09T11:00:0000Z
SUMMARY:Activité de plantation "Un arbre à la fois", don d’arbres et distribution de compost
LOCATION:La Montérégiade - Stationnement, Rang Double, Mont-Saint-Grégoire, QC, Canada
DESCRIPTION:Pour les résidents de Mont-Saint-Grégoire. Gratuit.
END:VEVENT
END:VCALENDAR