BEGIN:VCALENDAR
PRODID:-//Microsoft Corporation//Outlook 14.0 MIMEDIR//EN
VERSION:2.0
METHOD:PUBLISH
BEGIN:VEVENT
UID:6c883cd44608650da75036b74d928d44www.mmsg.ca
DTSTAMP:20260420T221119Z
DTSTART:2026-05-09T11:00:0000Z
DTEND:2026-05-09T14:00:0000Z
SUMMARY:Cardio Plein Air 
LOCATION:La Montérégiade - Stationnement, Rang Double, Mont-Saint-Grégoire, QC, Canada
DESCRIPTION:Séances dynamiques gratuites à l’occasion du don d’arbres.
END:VEVENT
END:VCALENDAR