BEGIN:VCALENDAR
PRODID:-//Microsoft Corporation//Outlook 14.0 MIMEDIR//EN
VERSION:2.0
METHOD:PUBLISH
BEGIN:VEVENT
UID:2ad591515f60aa73d8af0dfe2bc89accwww.mmsg.ca
DTSTAMP:20260419T142020Z
DTSTART:2026-04-29T10:00:0000Z
DTEND:2026-04-29T12:00:0000Z
SUMMARY:Atelier d’aide à la technologie
LOCATION:45 Rang de la Montagne, Mont-Saint-Grégoire, QC, Canada
DESCRIPTION:Aucune inscription requise. Atelier gratuit. Café et collations offerts sur place.
END:VEVENT
END:VCALENDAR