BEGIN:VCALENDAR
PRODID:-//Microsoft Corporation//Outlook 14.0 MIMEDIR//EN
VERSION:2.0
METHOD:PUBLISH
BEGIN:VEVENT
UID:56a9e4f474278d973b6322862e7ad703www.mmsg.ca
DTSTAMP:20260419T141527Z
DTSTART:2026-04-25T10:30:0000Z
DTEND:2026-04-25T12:00:0000Z
SUMMARY:Rencontre avec Denis Tremblay, photographe 
LOCATION:45 Rang de la Montagne, Mont-Saint-Grégoire, QC, Canada
DESCRIPTION:Découvrez le parcours de l’artiste. Événement gratuit à la Bibliothèque.
END:VEVENT
END:VCALENDAR