BEGIN:VCALENDAR
PRODID:-//Microsoft Corporation//Outlook 14.0 MIMEDIR//EN
VERSION:2.0
METHOD:PUBLISH
BEGIN:VEVENT
UID:3432c1efd3b98675a18790477246ecd6www.mmsg.ca
DTSTAMP:20260419T165656Z
DTSTART:2026-05-11T00:00:0000Z
DTEND:2026-08-31T23:59:0000Z
SUMMARY:Nouvelle formule pour les loisirs de la Municipalité
LOCATION:
DESCRIPTION:Abonnez-vous à l’infolettre municipale!
END:VEVENT
END:VCALENDAR