BEGIN:VCALENDAR
PRODID:-//Microsoft Corporation//Outlook 14.0 MIMEDIR//EN
VERSION:2.0
METHOD:PUBLISH
BEGIN:VEVENT
UID:eecf44807f4381eb912cb8965e46b83bwww.mmsg.ca
DTSTAMP:20260422T203132Z
DTSTART:2026-05-17T00:00:0000Z
DTEND:2026-05-17T23:59:0000Z
SUMMARY:Journée internationale de lutte contre l’homophobie et la transphobie
LOCATION:
DESCRIPTION:Créée par la Fondation Émergence en 2003, la Journée internationale contre l’homophobie et la transphobie, célébrée chaque 17 mai dans plusieurs pays, mobilise des milliers de personnes à travers des campagnes et initiatives visant à dénoncer les discriminations et promouvoir l’inclusion.
END:VEVENT
END:VCALENDAR